BEGIN:VCALENDAR
VERSION:2.0
PRODID:-//hacksw/handcal//NONSGML v1.0//EN
BEGIN:VEVENT
SUMMARY:Apero Taiso /JJB
UID:a203f5be-5e4d-4d22-a14d-d94ad7f6acdd
DTSTART:20260330T220000Z
DTEND:20260331T220000Z
LOCATION:Localisation   
CATEGORIES:Sportif
STATUS:
DESCRIPTION:<p>Bonjour,</p>
 
 <p>Apres les entrainements de Taiso et
 de JJB ce mardi 31 mars, nous vous invitons a partager un moment
 convivial.</p>
 
 <p>Chacun est libre d’apporter un plat sale ou
 sucre.</p>
 
 <p>Nous esperons vous voir nombreux pour partager ce
 moment ensemble.</p>
 
 <p>L'equipe JCPF</p>
URL;VALUE=URI:https://www.judoplaineduforez.com/evenements/2026/03/31/apero-taiso-jjb-2408209
END:VEVENT
END:VCALENDAR
