BEGIN:VCALENDAR
VERSION:2.0
PRODID:-//hacksw/handcal//NONSGML v1.0//EN
BEGIN:VEVENT
SUMMARY:Mini coupe du monde par equipe
UID:88e7c398-5755-4aad-9a95-1b9b12c76079
DTSTART:20260424T220000Z
DTEND:20260425T220000Z
LOCATION:Localisation   
CATEGORIES:Sportif
STATUS:
DESCRIPTION:<p>Accueil des equipes a 10h. </p>
 
 <p>Commune de
 VALLEIRY, situee a 11 Kms de St Julien-En-Genevois</p>
 
 <p>–
 Bellegarde, par la RN 206.</p>
 
 <p>Gymnase du VUACHE » situe a
 l’entree de la Commune de VALLEIRY.</p>
 
 <p>Rdv a 7h au dojo
 d'andrezieux. Possibilite d'emmener les jeunes de l'equipe en
 minibus. </p>
 
 <p>Composition de l'equipe :</p>
 
 <p>-28kg : Louis
 Haillot</p>
 
 <p>-32kg : Nael Chalaye</p>
 
 <p>-36kg : Sacha
 Linossier</p>
 
 <p>-40kg : Mikael Dimaksian</p>
 
 <p>-44kg :
 Elio</p>
 
 <p>Les enfants seront peses en kimono avec 1kg de marge (ex
 : le moins de 28kg peut se peser a 29kg en kimono)</p>
 
 <p> </p>
URL;VALUE=URI:https://www.judoplaineduforez.com/evenements/2026/04/25/mini-coupe-du-monde-par-equipe-2443566
END:VEVENT
END:VCALENDAR
