BEGIN:VCALENDAR
VERSION:2.0
PRODID:-//hacksw/handcal//NONSGML v1.0//EN
BEGIN:VEVENT
SUMMARY:Interclubs Grand Croix
UID:40b3a7be-4990-4f81-bc1e-0ad45bc0dc0b
DTSTART:20260425T220000Z
DTEND:20260426T220000Z
LOCATION:Localisation   
CATEGORIES:Sportif
STATUS:
DESCRIPTION:<table>
 	<tbody>
 		<tr>
 			<td>
 			<p>09h00 -
 09h15</p>
 			</td>
 			<td>
 			<p>Benjamins &
 Minimes</p>
 			</td>
 			<td>
 			<p>Reglement
 FFJDA</p>
 			</td>
 			<td>
 			<p>Benjamins et Minimes
 separes</p>
 			</td>
 		</tr>
 		<tr>
 			<td>
 			<p>10h15 -
 10h30</p>
 			</td>
 			<td>
 			<p>2021</p>
 			</td>
 			<td>
 			<p>Sumo
 et duel immobilisation</p>
 			</td>
 			<td>
 			<p>Poules de 4, dans
 la mesure du possible</p>
 			</td>
 		</tr>
 		<tr>
 			<td>
 			<p>11h30
 -
 11h45</p>
 			</td>
 			<td>
 			<p>2020</p>
 			</td>
 			<td>
 			<p>Sumo
 et duel immobilisation</p>
 			</td>
 			<td>
 			<p>Poules de 4, dans
 la mesure du possible</p>
 			</td>
 		</tr>
 		<tr>
 			<td>
 			<p>13h30
 -
 13h45</p>
 			</td>
 			<td>
 			<p>2019</p>
 			</td>
 			<td>
 			<p>Randoris
 Educatifs, </p>
 
 			<p>Depart
 debout</p>
 			</td>
 			<td>
 			<p>Poules de 4, dans la mesure du
 possible</p>
 			</td>
 		</tr>
 		<tr>
 			<td>
 			<p>14h45 –
 15h00</p>
 			</td>
 			<td>
 			<p>2018</p>
 			</td>
 			<td>
 			<p>Randoris
 Educatifs, </p>
 
 			<p>Depart
 debout</p>
 			</td>
 			<td>
 			<p>Poules de 4, dans la mesure du
 possible</p>
 			</td>
 		</tr>
 		<tr>
 			<td>
 			<p>16h00 -
 16h15</p>
 			</td>
 			<td>
 			<p>2017-2016</p>
 			</td>
 			<td>
 			<p>Randoris
 Educatifs, </p>
 
 			<p>Depart
 debout</p>
 			</td>
 			<td>
 			<p>Poules de 4, dans la mesure du
 possible</p>
 			</td>
 		</tr>
 	</tbody>
 </table>
 
 <p>Lieu : Gymnase
 Emile Soulier , rue du Dorlay, 42320 La Grand Croix</p>
URL;VALUE=URI:https://www.judoplaineduforez.com/evenements/2026/04/26/interclubs-grand-croix-2435752
END:VEVENT
END:VCALENDAR
